View In:
ArcGIS JavaScript
ArcGIS Online Map Viewer
ArcGIS Earth
Service Description: tfreed/USGS_10m_dem_extract
Name: tfreed/USGS_10m_dem_extract
Description:
Single Fused Map Cache: false
Extent:
XMin: -122.46666666760612
YMin: 37.0606481474766
XMax: -121.81416666690416
YMax: 37.513055555370705
Spatial Reference: 4269
(4269)
Initial Extent:
XMin: -122.46666666760612
YMin: 37.0606481474766
XMax: -121.81416666690416
YMax: 37.513055555370705
Spatial Reference: 4269
(4269)
Full Extent:
XMin: -122.46666666760612
YMin: 37.0606481474766
XMax: -121.81416666690416
YMax: 37.513055555370705
Spatial Reference: 4269
(4269)
Pixel Size X: 9.259259269220416E-5
Pixel Size Y: 9.259259269220364E-5
Band Count: 1
Pixel Type: F32
RasterFunction Infos: {"rasterFunctionInfos": [{
"help": "",
"name": "None",
"description": ""
}]}
Mensuration Capabilities: Basic
Inspection Capabilities:
Has Histograms: true
Has Colormap: false
Has Multi Dimensions : false
Rendering Rule:
Min Scale: 0
Max Scale: 0
Resampling: false
Copyright Text:
Service Data Type: esriImageServiceDataTypeGeneric
Min Values: -10.355918884277344
Max Values: 1155.7193603515625
Mean Values: 267.23253175018834
Standard Deviation Values: 231.96646105821495
Object ID Field:
Fields:
None
Default Mosaic Method: Center
Allowed Mosaic Methods:
SortField:
SortValue: N/A
Mosaic Operator: First
Default Compression Quality: 75
Default Resampling Method: Bilinear
Max Record Count: null
Max Image Height: 4100
Max Image Width: 15000
Max Download Image Count: null
Max Mosaic Image Count: null
Allow Raster Function: true
Allow Copy: true
Allow Analysis: true
Allow Compute TiePoints: false
Supports Statistics: false
Supports Advanced Queries: false
Use StandardizedQueries: false
Raster Type Infos:
Name: Raster Dataset
Description: Supports all ArcGIS Raster Datasets
Help:
Has Raster Attribute Table: false
Edit Fields Info: N/A
Ownership Based AccessControl For Rasters: N/A
Child Resources:
Info
Histograms
Statistics
Key Properties
Legend
Raster Function Infos
Supported Operations:
Export Image
Identify
Measure
Compute Histograms
Compute Statistics Histograms
Get Samples
Compute Class Statistics
Query Boundary
Compute Pixel Location
Compute Angles
Validate
Project