{
 "extent": {
  "ymin": 37.060648147476599,
  "xmin": -122.46666666760612,
  "ymax": 37.513055555370705,
  "xmax": -121.81416666690416,
  "spatialReference": {
   "latestWkid": 4269,
   "wkid": 4269
  }
 },
 "blockWidth": 128,
 "mosaicOperator": "First",
 "serviceSourceType": "esriImageServiceSourceTypeDataset",
 "hasMultidimensions": false,
 "maxImageWidth": 15000,
 "meanValues": [
  267.23253175018834
 ],
 "hasColormap": false,
 "compressionType": "NONE",
 "defaultCompressionQuality": 75,
 "maxValues": [
  1155.7193603515625
 ],
 "hasHistograms": true,
 "datasetFormat": "FGDBR",
 "maxImageHeight": 4100,
 "sortField": "",
 "bandNames": [
  "Band_1"
 ],
 "spatialReference": {
  "latestWkid": 4269,
  "wkid": 4269
 },
 "fullExtent": {
  "ymin": 37.060648147476599,
  "xmin": -122.46666666760612,
  "ymax": 37.513055555370705,
  "xmax": -121.81416666690416,
  "spatialReference": {
   "latestWkid": 4269,
   "wkid": 4269
  }
 },
 "bandCount": 1,
 "rasterFunctionInfos": [
  {
   "help": "",
   "name": "None",
   "description": ""
  }
 ],
 "supportsStatistics": false,
 "sortableFields": "",
 "minValues": [
  -10.355918884277344
 ],
 "allowRasterFunction": true,
 "allowComputeTiePoints": false,
 "serviceDataType": "esriImageServiceDataTypeGeneric",
 "supportsAdvancedQueries": false,
 "currentVersion": 12,
 "sortValue": null,
 "objectIdField": "",
 "blockHeight": 128,
 "initialExtent": {
  "ymin": 37.060648147476599,
  "xmin": -122.46666666760612,
  "ymax": 37.513055555370705,
  "xmax": -121.81416666690416,
  "spatialReference": {
   "latestWkid": 4269,
   "wkid": 4269
  }
 },
 "pixelSizeX": 0.000092592592692204164,
 "pixelSizeY": 0.000092592592692203635,
 "defaultMosaicMethod": "Center",
 "name": "tfreed/USGS_10m_dem_extract",
 "allowedMosaicMethods": "",
 "fields": [],
 "allowAnalysis": true,
 "hasRasterAttributeTable": false,
 "useStandardizedQueries": false,
 "description": "",
 "pixelType": "F32",
 "meanPixelSize": 10.30736026972512,
 "exportTilesAllowed": false,
 "editFieldsInfo": null,
 "rasterTypeInfos": [
  {
   "help": "",
   "name": "Raster Dataset",
   "description": "Supports all ArcGIS Raster Datasets"
  }
 ],
 "defaultResamplingMethod": "Bilinear",
 "itemAccess": false,
 "minScale": 0,
 "serviceProperties": "Center<\/MosaicMethod>First<\/MosaicOperator>true<\/SortAscending><\/LockImageID><\/TileOrderField>0<\/TileOrderBase>0.000000<\/AvgImageSpacingX>0.000000<\/AvgImageSpacingY>0.0<\/ViewPointX>0.0<\/ViewPointY>0.0<\/ViewPointDefShiftX>0.0<\/ViewPointDefShiftY>None<\/CompressionMethod>75<\/CompressionQuality>0.010000<\/CompressionTolerance>Bilinear<\/SamplingMethod><\/ImageServiceProperties><\/ImageServer>",
 "advancedQueryCapabilities": {
  "supportsStatistics": false,
  "supportsSqlExpression": false,
  "supportsOrderBy": false,
  "useStandardizedQueries": false,
  "supportsPagination": false,
  "supportsDistinct": false
 },
 "serviceItemId": "1debd265fb53403f99f41045bbc0c6c7",
 "capabilities": "Mensuration,Image,Metadata",
 "maxScale": 0,
 "stdvValues": [
  231.96646105821495
 ],
 "allowedFields": "",
 "minPixelSize": 0,
 "resampling": false,
 "sortAscending": true,
 "inspectionCapabilities": "",
 "maxPixelSize": 0,
 "uncompressedSize": 137726568,
 "serviceDescription": "tfreed/USGS_10m_dem_extract",
 "allowCopy": true,
 "copyrightText": "",
 "mensurationCapabilities": "Basic",
 "ownershipBasedAccessControlForRasters": null
}
