View In:
ArcGIS JavaScript
ArcGIS Online Map Viewer
ArcGIS Earth
ArcGIS Pro
Service Description:
Map Name: Map
Legend
All Layers and Tables
Layers:
Description:
Service Item Id: aaf8d4a1889d4c7e905992f4a3eecde3
Copyright Text:
Spatial Reference:
PROJCS["GRS_1980_UTM_Zone_10N",GEOGCS["GCS_GRS_1980",DATUM["D_GRS_1980",SPHEROID["GRS_1980",6378137.0,298.257222101]],PRIMEM["Greenwich",0.0],UNIT["Degree",0.0174532925199433]],PROJECTION["Transverse_Mercator"],PARAMETER["False_Easting",500000.0],PARAMETER["False_Northing",0.0],PARAMETER["Central_Meridian",-123.0],PARAMETER["Scale_Factor",0.9996],PARAMETER["Latitude_Of_Origin",0.0],UNIT["Meter",1.0]]
Single Fused Map Cache: true
Tile Info:
- Height: 256.0
- Width: 256.0
- DPI: 96.0
-
Levels of Detail: 19
-
Level ID: 0
[ Start Tile, End Tile ]
- Resolution: 78109.0933041901735
- Scale: 295215470.75599432
-
Level ID: 1
[ Start Tile, End Tile ]
- Resolution: 39054.5466520950868
- Scale: 147607735.37799716
-
Level ID: 2
[ Start Tile, End Tile ]
- Resolution: 19527.2733260475434
- Scale: 73803867.68899858
-
Level ID: 3
[ Start Tile, End Tile ]
- Resolution: 9763.63666302377169
- Scale: 36901933.84449929
-
Level ID: 4
[ Start Tile, End Tile ]
- Resolution: 4881.81833151188584
- Scale: 18450966.922249645
-
Level ID: 5
[ Start Tile, End Tile ]
- Resolution: 2440.90916575594292
- Scale: 9225483.4611248225
-
Level ID: 6
[ Start Tile, End Tile ]
- Resolution: 1220.45458287797146
- Scale: 4612741.73056241125
-
Level ID: 7
[ Start Tile, End Tile ]
- Resolution: 610.227291438985731
- Scale: 2306370.86528120562
-
Level ID: 8
[ Start Tile, End Tile ]
- Resolution: 305.113645719492865
- Scale: 1153185.43264060281
-
Level ID: 9
[ Start Tile, End Tile ]
- Resolution: 152.556822859746433
- Scale: 576592.716320301406
-
Level ID: 10
[ Start Tile, End Tile ]
- Resolution: 76.2784114298732163
- Scale: 288296.3581601507
-
Level ID: 11
[ Start Tile, End Tile ]
- Resolution: 38.1392057149366082
- Scale: 144148.179080075352
-
Level ID: 12
[ Start Tile, End Tile ]
- Resolution: 19.0696028574683041
- Scale: 72074.0895400376758
-
Level ID: 13
[ Start Tile, End Tile ]
- Resolution: 9.534801428734152
- Scale: 36037.0447700188379
-
Level ID: 14
[ Start Tile, End Tile ]
- Resolution: 4.767400714367076
- Scale: 18018.5223850094189
-
Level ID: 15
[ Start Tile, End Tile ]
- Resolution: 2.383700357183538
- Scale: 9009.26119250470947
-
Level ID: 16
[ Start Tile, End Tile ]
- Resolution: 1.191850178591769
- Scale: 4504.63059625235474
-
Level ID: 17
[ Start Tile, End Tile ]
- Resolution: 0.5959250892958845
- Scale: 2252.31529812617737
-
Level ID: 18
[ Start Tile, End Tile ]
- Resolution: 0.29796254464794225
- Scale: 1126.15764906308868
- Format: Mixed
- Compression Quality: 75.0
- Origin: X: -9497963.942936342
Y: 9997963.942936342
- Spatial Reference: PROJCS["GRS_1980_UTM_Zone_10N",GEOGCS["GCS_GRS_1980",DATUM["D_GRS_1980",SPHEROID["GRS_1980",6378137.0,298.257222101]],PRIMEM["Greenwich",0.0],UNIT["Degree",0.0174532925199433]],PROJECTION["Transverse_Mercator"],PARAMETER["False_Easting",500000.0],PARAMETER["False_Northing",0.0],PARAMETER["Central_Meridian",-123.0],PARAMETER["Scale_Factor",0.9996],PARAMETER["Latitude_Of_Origin",0.0],UNIT["Meter",1.0]]
Storage Info:
- Storage Format: esriMapCacheStorageModeCompactV2
- Packet Size: 128
Initial Extent:
XMin: 758944.4904354875
YMin: 4312176.546220406
XMax: 762235.6696016769
YMax: 4315068.889743364
Spatial Reference: PROJCS["GRS_1980_UTM_Zone_10N",GEOGCS["GCS_GRS_1980",DATUM["D_GRS_1980",SPHEROID["GRS_1980",6378137.0,298.257222101]],PRIMEM["Greenwich",0.0],UNIT["Degree",0.0174532925199433]],PROJECTION["Transverse_Mercator"],PARAMETER["False_Easting",500000.0],PARAMETER["False_Northing",0.0],PARAMETER["Central_Meridian",-123.0],PARAMETER["Scale_Factor",0.9996],PARAMETER["Latitude_Of_Origin",0.0],UNIT["Meter",1.0]]
Full Extent:
XMin: 759388.8470948818
YMin: 4312163.630431244
XMax: 762094.7043107264
YMax: 4314956.575756926
Spatial Reference: PROJCS["GRS_1980_UTM_Zone_10N",GEOGCS["GCS_GRS_1980",DATUM["D_GRS_1980",SPHEROID["GRS_1980",6378137.0,298.257222101]],PRIMEM["Greenwich",0.0],UNIT["Degree",0.0174532925199433]],PROJECTION["Transverse_Mercator"],PARAMETER["False_Easting",500000.0],PARAMETER["False_Northing",0.0],PARAMETER["Central_Meridian",-123.0],PARAMETER["Scale_Factor",0.9996],PARAMETER["Latitude_Of_Origin",0.0],UNIT["Meter",1.0]]
Units: esriMeters
Supported Image Format Types: PNG32,PNG24,PNG,JPG,DIB,TIFF,EMF,PS,PDF,GIF,SVG,SVGZ,BMP
Document Info:
Title: C:\projects\PC500_UAS_South_Lake\ArcGIS\South_Lake_UAS_Project\South_Lake_UAS_Project.aprx
Author:
Comments:
Subject:
Category:
Keywords:
AntialiasingMode: None
TextAntialiasingMode: Force
Supports Dynamic Layers: false
MaxRecordCount: 1000
MaxSelectionCount: 0
MaxImageHeight: 4096
MaxImageWidth: 4096
Supported Query Formats: JSON, geoJSON, PBF
Supports Query Data Elements: true
Min Scale: 36037.0447700188379
Max Scale: 4504.63059625235474
Min LOD: 13
Max LOD: 16
Supports Datum Transformation: true
Child Resources:
Info
Supported Operations:
QueryLegends
Return Updates