View In:
ArcGIS JavaScript
ArcGIS Online Map Viewer
ArcGIS Earth
ArcGIS Pro
Service Description:
Map Name: Map
Legend
All Layers and Tables
Layers:
Description:
Service Item Id: 80b58486a9a24713977b0edc319fe53b
Copyright Text:
Spatial Reference:
102100
(3857)
Single Fused Map Cache: true
Tile Info:
- Height: 256.0
- Width: 256.0
- DPI: 96.0
-
Levels of Detail: 20
-
Level ID: 0
[ Start Tile, End Tile ]
- Resolution: 156543.03392799999
- Scale: 591657527.591555
-
Level ID: 1
[ Start Tile, End Tile ]
- Resolution: 78271.51696399989305064
- Scale: 295828763.7957770228386
-
Level ID: 2
[ Start Tile, End Tile ]
- Resolution: 39135.75848200009932
- Scale: 147914381.8978889882565
-
Level ID: 3
[ Start Tile, End Tile ]
- Resolution: 19567.8792409999005
- Scale: 73957190.94894400239
-
Level ID: 4
[ Start Tile, End Tile ]
- Resolution: 9783.9396204999593
- Scale: 36978595.474472001195
-
Level ID: 5
[ Start Tile, End Tile ]
- Resolution: 4891.9698102499797
- Scale: 18489297.7372360006
-
Level ID: 6
[ Start Tile, End Tile ]
- Resolution: 2445.9849051249898
- Scale: 9244648.8686180003
-
Level ID: 7
[ Start Tile, End Tile ]
- Resolution: 1222.9924525624899
- Scale: 4622324.434309000149369
-
Level ID: 8
[ Start Tile, End Tile ]
- Resolution: 611.496226281380018
- Scale: 2311162.217155000194907
-
Level ID: 9
[ Start Tile, End Tile ]
- Resolution: 305.748113140558019
- Scale: 1155581.108577
-
Level ID: 10
[ Start Tile, End Tile ]
- Resolution: 152.874056570411
- Scale: 577790.5542889999924228
-
Level ID: 11
[ Start Tile, End Tile ]
- Resolution: 76.4370282850731968
- Scale: 288895.2771439999924
-
Level ID: 12
[ Start Tile, End Tile ]
- Resolution: 38.2185141425365984
- Scale: 144447.638572
-
Level ID: 13
[ Start Tile, End Tile ]
- Resolution: 19.1092570712682992
- Scale: 72223.8192859999981
-
Level ID: 14
[ Start Tile, End Tile ]
- Resolution: 9.5546285356341496
- Scale: 36111.90964299999905052
-
Level ID: 16
[ Start Tile, End Tile ]
- Resolution: 2.38865713397468
- Scale: 9027.9774109999998
-
Level ID: 17
[ Start Tile, End Tile ]
- Resolution: 1.19432856685505007
- Scale: 4513.9887049999998
-
Level ID: 19
[ Start Tile, End Tile ]
- Resolution: 0.29858214164761698
- Scale: 1128.4971760000001
- Format: Mixed
- Compression Quality: 75.0
- Origin: X: -2.0037508342787E7
Y: 2.0037508342787E7
- Spatial Reference: 102100
(3857)
Initial Extent:
XMin: -1.335413681780424E7
YMin: 4714375.421719484
XMax: -1.3353555980897754E7
YMax: 4714777.31636502
Spatial Reference: 102100
(3857)
Full Extent:
XMin: -1.3360940973343419E7
YMin: 4711426.6456100345
XMax: -1.3360716441101428E7
YMax: 4711843.678256249
Spatial Reference: 102100
(3857)
Units: esriMeters
Supported Image Format Types: PNG32,PNG24,PNG,JPG,DIB,TIFF,EMF,PS,PDF,GIF,SVG,SVGZ,BMP
Document Info:
Title: Map
Author:
Comments:
Subject:
Category:
Keywords:
AntialiasingMode: Fast
TextAntialiasingMode: Force
Supports Dynamic Layers: false
MaxRecordCount: 1000
MaxSelectionCount: 0
MaxImageHeight: 4096
MaxImageWidth: 4096
Supported Query Formats: JSON, AMF, geoJSON
Supports Query Data Elements:
Min Scale: 591657527.591555
Max Scale: 0
Supports Datum Transformation: true
Child Resources:
Info
Supported Operations:
QueryLegends
Return Updates