View In:
ArcGIS JavaScript
ArcGIS Online Map Viewer
ArcGIS Earth
ArcGIS Pro
Service Description:
Map Name: Map
Legend
All Layers and Tables
Layers:
Description:
Service Item Id: 3b87d3ca7c00478eb6e1f48a60e6bb0a
Copyright Text:
Spatial Reference:
102039
(102039)
Single Fused Map Cache: true
Tile Info:
- Height: 256.0
- Width: 256.0
- DPI: 96.0
-
Levels of Detail: 19
-
Level ID: 0
[ Start Tile, End Tile ]
- Resolution: 132038.88546868955
- Scale: 499044606.49583447
-
Level ID: 1
[ Start Tile, End Tile ]
- Resolution: 66019.4427343447751
- Scale: 249522303.247917235
-
Level ID: 2
[ Start Tile, End Tile ]
- Resolution: 33009.7213671723875
- Scale: 124761151.623958617
-
Level ID: 3
[ Start Tile, End Tile ]
- Resolution: 16504.8606835861938
- Scale: 62380575.8119793087
-
Level ID: 4
[ Start Tile, End Tile ]
- Resolution: 8252.43034179309689
- Scale: 31190287.9059896544
-
Level ID: 5
[ Start Tile, End Tile ]
- Resolution: 4126.21517089654844
- Scale: 15595143.9529948272
-
Level ID: 6
[ Start Tile, End Tile ]
- Resolution: 2063.10758544827422
- Scale: 7797571.97649741359
-
Level ID: 7
[ Start Tile, End Tile ]
- Resolution: 1031.55379272413711
- Scale: 3898785.9882487068
-
Level ID: 8
[ Start Tile, End Tile ]
- Resolution: 515.776896362068555
- Scale: 1949392.9941243534
-
Level ID: 9
[ Start Tile, End Tile ]
- Resolution: 257.888448181034278
- Scale: 974696.4970621767
-
Level ID: 10
[ Start Tile, End Tile ]
- Resolution: 128.944224090517139
- Scale: 487348.248531088349
-
Level ID: 11
[ Start Tile, End Tile ]
- Resolution: 64.4721120452585694
- Scale: 243674.124265544175
-
Level ID: 12
[ Start Tile, End Tile ]
- Resolution: 32.2360560226292847
- Scale: 121837.062132772087
-
Level ID: 13
[ Start Tile, End Tile ]
- Resolution: 16.1180280113146424
- Scale: 60918.5310663860437
-
Level ID: 14
[ Start Tile, End Tile ]
- Resolution: 8.0590140056573212
- Scale: 30459.2655331930218
-
Level ID: 15
[ Start Tile, End Tile ]
- Resolution: 4.0295070028286606
- Scale: 15229.6327665965109
-
Level ID: 16
[ Start Tile, End Tile ]
- Resolution: 2.0147535014143303
- Scale: 7614.81638329825546
-
Level ID: 17
[ Start Tile, End Tile ]
- Resolution: 1.0073767507071651
- Scale: 3807.40819164912773
-
Level ID: 18
[ Start Tile, End Tile ]
- Resolution: 0.50368837535358257
- Scale: 1903.70409582456386
- Format: Mixed
- Compression Quality: 75.0
- Origin: X: -1.6900977339992262E7
Y: 2.106395117933842E7
- Spatial Reference: 102039
(102039)
Storage Info:
- Storage Format: esriMapCacheStorageModeCompactV2
- Packet Size: 128
Initial Extent:
XMin: -2313636.045789287
YMin: 2051933.5796872282
XMax: -1889736.0862842253
YMax: 2247502.5673137745
Spatial Reference: 102039
(102039)
Full Extent:
XMin: -2323545.0
YMin: 1274235.0
XMax: -1716315.0
YMax: 2452155.0
Spatial Reference: 102039
(102039)
Units: esriMeters
Supported Image Format Types: PNG32,PNG24,PNG,JPG,DIB,TIFF,EMF,PS,PDF,GIF,SVG,SVGZ,BMP
Document Info:
Title: Map
Author:
Comments:
Subject:
Category:
Keywords:
AntialiasingMode: None
TextAntialiasingMode: Force
Supports Dynamic Layers: false
MaxRecordCount: 1000
MaxSelectionCount: 0
MaxImageHeight: 4096
MaxImageWidth: 4096
Supported Query Formats: JSON, geoJSON, PBF
Supports Query Data Elements: true
Min Scale: 7797571.97649741359
Max Scale: 243674.124265544175
Min LOD: 6
Max LOD: 11
Supports Datum Transformation: true
Child Resources:
Info
Supported Operations:
QueryLegends
Return Updates