View In:
ArcGIS JavaScript
ArcGIS Online Map Viewer
ArcGIS Earth
ArcGIS Pro
Service Description:
Map Name: Map
Legend
All Layers and Tables
Layers:
Description:
Service Item Id: ef60f3d8589c43ffb60caca47f8f6658
Copyright Text:
Spatial Reference:
26910
(26910)
Single Fused Map Cache: true
Tile Info:
- Height: 256.0
- Width: 256.0
- DPI: 96.0
-
Levels of Detail: 19
-
Level ID: 0
[ Start Tile, End Tile ]
- Resolution: 78109.0933041901735123
- Scale: 295215470.75599432
-
Level ID: 1
[ Start Tile, End Tile ]
- Resolution: 39054.5466520950867562
- Scale: 147607735.37799716
-
Level ID: 2
[ Start Tile, End Tile ]
- Resolution: 19527.2733260475433781
- Scale: 73803867.68899858
-
Level ID: 3
[ Start Tile, End Tile ]
- Resolution: 9763.636663023771689
- Scale: 36901933.84449929
-
Level ID: 4
[ Start Tile, End Tile ]
- Resolution: 4881.81833151188584452
- Scale: 18450966.922249645
-
Level ID: 5
[ Start Tile, End Tile ]
- Resolution: 2440.90916575594292226
- Scale: 9225483.4611248225
-
Level ID: 6
[ Start Tile, End Tile ]
- Resolution: 1220.45458287797146113
- Scale: 4612741.73056241124868
-
Level ID: 7
[ Start Tile, End Tile ]
- Resolution: 610.22729143898573
- Scale: 2306370.86528120562434
-
Level ID: 8
[ Start Tile, End Tile ]
- Resolution: 305.11364571949287
- Scale: 1153185.43264060281217
-
Level ID: 9
[ Start Tile, End Tile ]
- Resolution: 152.55682285974643
- Scale: 576592.716320301406085
-
Level ID: 10
[ Start Tile, End Tile ]
- Resolution: 76.2784114298732163
- Scale: 288296.3581601507
-
Level ID: 11
[ Start Tile, End Tile ]
- Resolution: 38.1392057149366082
- Scale: 144148.179080075351521
-
Level ID: 12
[ Start Tile, End Tile ]
- Resolution: 19.0696028574683041
- Scale: 72074.0895400376757607
-
Level ID: 13
[ Start Tile, End Tile ]
- Resolution: 9.534801428734152
- Scale: 36037.04477001883788
-
Level ID: 14
[ Start Tile, End Tile ]
- Resolution: 4.767400714367076
- Scale: 18018.52238500941894
-
Level ID: 15
[ Start Tile, End Tile ]
- Resolution: 2.383700357183538
- Scale: 9009.26119250470947
-
Level ID: 16
[ Start Tile, End Tile ]
- Resolution: 1.191850178591769
- Scale: 4504.630596252354735
-
Level ID: 17
[ Start Tile, End Tile ]
- Resolution: 0.5959250892958845
- Scale: 2252.31529812617736752
-
Level ID: 18
[ Start Tile, End Tile ]
- Resolution: 0.29796254464794225
- Scale: 1126.15764906308868376
- Format: Mixed
- Compression Quality: 75.0
- Origin: X: -9497963.942936342
Y: 9997963.942936342
- Spatial Reference: 26910
(26910)
Storage Info:
- Storage Format: esriMapCacheStorageModeCompactV2
- Packet Size: 128
Initial Extent:
XMin: 612523.0741142433
YMin: 4408206.677603132
XMax: 744076.7618529929
YMax: 4476042.211814237
Spatial Reference: 26910
(26910)
Full Extent:
XMin: 599961.1473526862
YMin: 4392589.447173734
XMax: 747911.1420638959
YMax: 4540299.438711407
Spatial Reference: 26910
(26910)
Units: esriMeters
Supported Image Format Types: PNG32,PNG24,PNG,JPG,DIB,TIFF,EMF,PS,PDF,GIF,SVG,SVGZ,BMP
Document Info:
Title: C:\Users\finisher\Documents\ArcGIS\Projects\MyProject1\MyProject1.aprx
Author:
Comments:
Subject:
Category:
Keywords:
AntialiasingMode: None
TextAntialiasingMode: Force
Supports Dynamic Layers: false
MaxRecordCount: 1000
MaxSelectionCount: 0
MaxImageHeight: 4096
MaxImageWidth: 4096
Supported Query Formats: JSON, geoJSON, PBF
Supports Query Data Elements: true
Min Scale: 73803867.68899858
Max Scale: 18018.522385009419
Supports Datum Transformation: true
Child Resources:
Info
Supported Operations:
QueryLegends
Return Updates