{
 "documentInfo": {
  "Category": "",
  "Keywords": "",
  "Comments": "",
  "AntialiasingMode": "Fast",
  "Title": "Map",
  "Author": "",
  "TextAntialiasingMode": "Force",
  "Subject": ""
 },
 "maxImageWidth": 4096,
 "maxRecordCount": 1000,
 "tileInfo": {
  "lods": [
   {
    "level": 0,
    "scale": 591657527.591555,
    "resolution": 156543.03392799999
   },
   {
    "level": 1,
    "scale": 295828763.7957770228386,
    "resolution": 78271.51696399989305064
   },
   {
    "level": 2,
    "scale": 147914381.8978889882565,
    "resolution": 39135.75848200009932
   },
   {
    "level": 3,
    "scale": 73957190.94894400239,
    "resolution": 19567.8792409999005
   },
   {
    "level": 4,
    "scale": 36978595.474472001195,
    "resolution": 9783.9396204999593
   },
   {
    "level": 5,
    "scale": 18489297.7372360006,
    "resolution": 4891.9698102499797
   },
   {
    "level": 6,
    "scale": 9244648.8686180003,
    "resolution": 2445.9849051249898
   },
   {
    "level": 7,
    "scale": 4622324.434309000149369,
    "resolution": 1222.9924525624899
   },
   {
    "level": 8,
    "scale": 2311162.217155000194907,
    "resolution": 611.496226281380018
   },
   {
    "level": 9,
    "scale": 1155581.108577,
    "resolution": 305.748113140558019
   },
   {
    "level": 10,
    "scale": 577790.5542889999924228,
    "resolution": 152.874056570411
   },
   {
    "level": 11,
    "scale": 288895.2771439999924,
    "resolution": 76.4370282850731968
   },
   {
    "level": 12,
    "scale": 144447.638572,
    "resolution": 38.2185141425365984
   },
   {
    "level": 13,
    "scale": 72223.8192859999981,
    "resolution": 19.1092570712682992
   },
   {
    "level": 14,
    "scale": 36111.90964299999905052,
    "resolution": 9.5546285356341496
   },
   {
    "level": 15,
    "scale": 18055.954822,
    "resolution": 4.77731426794936986
   },
   {
    "level": 16,
    "scale": 9027.9774109999998,
    "resolution": 2.38865713397468
   },
   {
    "level": 17,
    "scale": 4513.9887049999998,
    "resolution": 1.19432856685505007
   },
   {
    "level": 18,
    "scale": 2256.994353,
    "resolution": 0.59716428355981699
   },
   {
    "level": 19,
    "scale": 1128.4971760000001,
    "resolution": 0.29858214164761698
   }
  ],
  "origin": {
   "x": -20037508.342787001282,
   "y": 20037508.342787001282
  },
  "format": "Mixed",
  "compressionQuality": 75,
  "rows": 256,
  "dpi": 96,
  "spatialReference": {
   "latestWkid": 3857,
   "wkid": 102100
  },
  "cols": 256
 },
 "description": "",
 "units": "esriMeters",
 "supportedImageFormatTypes": "PNG32,PNG24,PNG,JPG,DIB,TIFF,EMF,PS,PDF,GIF,SVG,SVGZ,BMP",
 "maxImageHeight": 4096,
 "exportTilesAllowed": false,
 "tables": [],
 "supportsDatumTransformation": true,
 "cimVersion": "2.0.0",
 "layers": [
  {
   "subLayerIds": null,
   "maxScale": 0,
   "name": "mountain lab 26sept2017",
   "defaultVisibility": true,
   "id": 0,
   "minScale": 0,
   "parentLayerId": -1
  }
 ],
 "mapName": "Map",
 "minScale": 591657527.591555,
 "spatialReference": {
  "latestWkid": 3857,
  "wkid": 102100
 },
 "fullExtent": {
  "ymin": 4713044.732672127,
  "xmin": -13355959.821933521,
  "ymax": 4713231.640002388507128,
  "xmax": -13355760.6857767608,
  "spatialReference": {
   "latestWkid": 3857,
   "wkid": 102100
  }
 },
 "supportedExtensions": "",
 "serviceItemId": "401f48e044bd4c3da8210ffcf142a7aa",
 "capabilities": "TilesOnly,Tilemap",
 "supportsDynamicLayers": false,
 "maxScale": 0,
 "singleFusedMapCache": true,
 "currentVersion": 11.4,
 "maxExportTilesCount": 100000,
 "supportedQueryFormats": "JSON, AMF, geoJSON",
 "datumTransformations": [
  {
   "geoTransforms": [
    {
     "latestWkid": 108190,
     "transformForward": true,
     "wkid": 108190,
     "name": "WGS_1984_(ITRF00)_To_NAD_1983"
    }
   ]
  },
  {
   "geoTransforms": [
    {
     "latestWkid": 108190,
     "transformForward": false,
     "wkid": 108190,
     "name": "WGS_1984_(ITRF00)_To_NAD_1983"
    }
   ]
  }
 ],
 "initialExtent": {
  "ymin": 4699093.106336417608,
  "xmin": -13364428.92726428620517,
  "ymax": 4710449.293115398846567,
  "xmax": -13355518.89864828623831,
  "spatialReference": {
   "latestWkid": 3857,
   "wkid": 102100
  }
 },
 "serviceDescription": "",
 "copyrightText": ""
}
