{
 "documentInfo": {
  "Category": "",
  "Keywords": "",
  "Comments": "",
  "AntialiasingMode": "None",
  "Title": "Map",
  "Author": "",
  "TextAntialiasingMode": "None",
  "Subject": ""
 },
 "maxImageWidth": 4096,
 "maxRecordCount": 1000,
 "tileInfo": {
  "lods": [
   {
    "level": 0,
    "scale": 591657527.591555,
    "resolution": 156543.03392799999
   },
   {
    "level": 1,
    "scale": 295828763.795777022839,
    "resolution": 78271.5169639998930506
   },
   {
    "level": 2,
    "scale": 147914381.897888988256,
    "resolution": 39135.75848200009932
   },
   {
    "level": 3,
    "scale": 73957190.94894400239,
    "resolution": 19567.8792409999005
   },
   {
    "level": 4,
    "scale": 36978595.474472001195,
    "resolution": 9783.93962049995934649
   },
   {
    "level": 5,
    "scale": 18489297.7372360006,
    "resolution": 4891.96981024997967324
   },
   {
    "level": 6,
    "scale": 9244648.8686180003,
    "resolution": 2445.98490512498983662
   },
   {
    "level": 7,
    "scale": 4622324.43430900014937,
    "resolution": 1222.99245256248991609
   },
   {
    "level": 8,
    "scale": 2311162.21715500019491,
    "resolution": 611.496226281380018
   },
   {
    "level": 9,
    "scale": 1155581.108577,
    "resolution": 305.74811314055802
   },
   {
    "level": 10,
    "scale": 577790.554288999992423,
    "resolution": 152.874056570411
   },
   {
    "level": 11,
    "scale": 288895.2771439999924,
    "resolution": 76.4370282850731968
   },
   {
    "level": 12,
    "scale": 144447.638572,
    "resolution": 38.2185141425365984
   },
   {
    "level": 13,
    "scale": 72223.8192859999981,
    "resolution": 19.1092570712682992
   },
   {
    "level": 14,
    "scale": 36111.9096429999990505,
    "resolution": 9.5546285356341496
   },
   {
    "level": 15,
    "scale": 18055.954822,
    "resolution": 4.7773142679493699
   },
   {
    "level": 16,
    "scale": 9027.97741099999984726,
    "resolution": 2.38865713397468
   },
   {
    "level": 17,
    "scale": 4513.98870499999975436,
    "resolution": 1.1943285668550501
   },
   {
    "level": 18,
    "scale": 2256.994353,
    "resolution": 0.59716428355981699
   },
   {
    "level": 19,
    "scale": 1128.49717600000008133,
    "resolution": 0.29858214164761698
   },
   {
    "level": 20,
    "scale": 564.24858800000004,
    "resolution": 0.14929107082380833
   },
   {
    "level": 21,
    "scale": 282.12429400000002,
    "resolution": 0.074645535411904163
   },
   {
    "level": 22,
    "scale": 141.06214700000001,
    "resolution": 0.037322767705952081
   },
   {
    "level": 23,
    "scale": 70.5310735000000051,
    "resolution": 0.018661383852976041
   }
  ],
  "origin": {
   "x": -20037508.342787001282,
   "y": 20037508.342787001282
  },
  "format": "Mixed",
  "compressionQuality": 75,
  "rows": 256,
  "dpi": 96,
  "spatialReference": {
   "falseM": -100000,
   "xyTolerance": 0.001,
   "mUnits": 10000,
   "zUnits": 10000,
   "latestWkid": 3857,
   "zTolerance": 0.001,
   "wkid": 102100,
   "xyUnits": 148923141.92838537693,
   "mTolerance": 0.001,
   "falseX": -20037700,
   "falseY": -30241100,
   "falseZ": -100000
  },
  "cols": 256
 },
 "description": "",
 "units": "esriMeters",
 "supportedImageFormatTypes": "PNG32,PNG24,PNG,JPG,DIB,TIFF,EMF,PS,PDF,GIF,SVG,SVGZ,BMP",
 "maxImageHeight": 4096,
 "exportTilesAllowed": false,
 "tables": [],
 "supportsDatumTransformation": true,
 "cimVersion": "2.3.0",
 "layers": [
  {
   "subLayerIds": null,
   "maxScale": 0,
   "name": "ftprints_urban",
   "defaultVisibility": true,
   "id": 11,
   "minScale": 0,
   "parentLayerId": -1
  }
 ],
 "mapName": "Map",
 "archivingInfo": {
  "supportsHistoricMoment": false
 },
 "minScale": 2311162.217155,
 "spatialReference": {
  "falseM": -100000,
  "xyTolerance": 0.001,
  "mUnits": 10000,
  "zUnits": 10000,
  "latestWkid": 3857,
  "zTolerance": 0.001,
  "wkid": 102100,
  "xyUnits": 10000,
  "mTolerance": 0.001,
  "falseX": -20037700,
  "falseY": -30241100,
  "falseZ": -100000
 },
 "fullExtent": {
  "ymin": 4628388.3117691176,
  "xmin": -13563248.42441491,
  "ymax": 4843983.77648469992,
  "xmax": -13359309.5525080133229,
  "spatialReference": {
   "cs": "pcs",
   "wkid": 102100
  }
 },
 "supportedExtensions": "",
 "serviceItemId": "3662340a157e40cab121056ec3388b38",
 "capabilities": "TilesOnly,Tilemap",
 "supportsDynamicLayers": false,
 "maxScale": 72223.819286,
 "singleFusedMapCache": true,
 "currentVersion": 11.4,
 "maxExportTilesCount": 100000,
 "supportedQueryFormats": "JSON, AMF, geoJSON",
 "datumTransformations": [
  {
   "geoTransforms": [
    {
     "latestWkid": 108190,
     "transformForward": false,
     "wkid": 108190,
     "name": "WGS_1984_(ITRF00)_To_NAD_1983"
    }
   ]
  },
  {
   "geoTransforms": [
    {
     "latestWkid": 108190,
     "transformForward": true,
     "wkid": 108190,
     "name": "WGS_1984_(ITRF00)_To_NAD_1983"
    }
   ]
  }
 ],
 "initialExtent": {
  "ymin": 4748882.71041601151228,
  "xmin": -13482651.042676717,
  "ymax": 4756400.65863923355937,
  "xmax": -13469078.3167984485626,
  "spatialReference": {
   "cs": "pcs",
   "wkid": 102100
  }
 },
 "serviceDescription": "",
 "copyrightText": ""
}
