{
 "documentInfo": {
  "Category": "",
  "Keywords": "",
  "Comments": "",
  "AntialiasingMode": "None",
  "Title": "C:\\Users\\tfreed\\AppData\\Local\\Temp\\ArcGISPro3308\\abfdb695-de73-4b74-9acd-8b9d396a4e1a\\Untitled.aprx",
  "Author": "",
  "TextAntialiasingMode": "Force",
  "Subject": ""
 },
 "maxImageWidth": 4096,
 "maxRecordCount": 1000,
 "tileInfo": {
  "lods": [
   {
    "level": 0,
    "scale": 591657527.591555,
    "resolution": 156543.03392799999
   },
   {
    "level": 1,
    "scale": 295828763.79577702284,
    "resolution": 78271.516963999893051
   },
   {
    "level": 2,
    "scale": 147914381.89788898826,
    "resolution": 39135.75848200009932
   },
   {
    "level": 3,
    "scale": 73957190.94894400239,
    "resolution": 19567.8792409999005
   },
   {
    "level": 4,
    "scale": 36978595.474472001195,
    "resolution": 9783.9396204999593465
   },
   {
    "level": 5,
    "scale": 18489297.7372360006,
    "resolution": 4891.9698102499796732
   },
   {
    "level": 6,
    "scale": 9244648.8686180003,
    "resolution": 2445.9849051249898366
   },
   {
    "level": 7,
    "scale": 4622324.4343090001494,
    "resolution": 1222.9924525624899161
   },
   {
    "level": 8,
    "scale": 2311162.2171550001949,
    "resolution": 611.496226281380018
   },
   {
    "level": 9,
    "scale": 1155581.108577,
    "resolution": 305.74811314055801859
   },
   {
    "level": 10,
    "scale": 577790.55428899999242,
    "resolution": 152.874056570411
   },
   {
    "level": 11,
    "scale": 288895.2771439999924,
    "resolution": 76.4370282850731968
   },
   {
    "level": 12,
    "scale": 144447.638572,
    "resolution": 38.2185141425365984
   },
   {
    "level": 13,
    "scale": 72223.8192859999981,
    "resolution": 19.1092570712682992
   },
   {
    "level": 14,
    "scale": 36111.909642999999051,
    "resolution": 9.5546285356341496
   },
   {
    "level": 15,
    "scale": 18055.954822,
    "resolution": 4.77731426794936986
   },
   {
    "level": 16,
    "scale": 9027.9774109999998473,
    "resolution": 2.38865713397468
   },
   {
    "level": 17,
    "scale": 4513.9887049999997544,
    "resolution": 1.19432856685505007
   },
   {
    "level": 18,
    "scale": 2256.994353,
    "resolution": 0.59716428355981699
   },
   {
    "level": 19,
    "scale": 1128.4971760000000813,
    "resolution": 0.29858214164761698
   },
   {
    "level": 20,
    "scale": 564.24858800000004067,
    "resolution": 0.14929107082380833
   },
   {
    "level": 21,
    "scale": 282.12429400000002,
    "resolution": 0.074645535411904163
   },
   {
    "level": 22,
    "scale": 141.06214700000001,
    "resolution": 0.037322767705952081
   },
   {
    "level": 23,
    "scale": 70.531073500000005,
    "resolution": 0.018661383852976041
   }
  ],
  "origin": {
   "x": -20037508.342787001282,
   "y": 20037508.342787001282
  },
  "format": "Mixed",
  "compressionQuality": 75,
  "rows": 256,
  "dpi": 96,
  "spatialReference": {
   "falseM": -100000,
   "xyTolerance": 0.001,
   "mUnits": 10000,
   "zUnits": 10000,
   "latestWkid": 3857,
   "zTolerance": 0.001,
   "wkid": 102100,
   "xyUnits": 148923141.92838537693,
   "mTolerance": 0.001,
   "falseX": -20037700,
   "falseY": -30241100,
   "falseZ": -100000
  },
  "cols": 256
 },
 "description": "",
 "units": "esriMeters",
 "supportedImageFormatTypes": "PNG32,PNG24,PNG,JPG,DIB,TIFF,EMF,PS,PDF,GIF,SVG,SVGZ,BMP",
 "supportsClipping": true,
 "maxImageHeight": 4096,
 "exportTilesAllowed": false,
 "tables": [],
 "supportsDatumTransformation": true,
 "cimVersion": "2.5.0",
 "supportsQueryDataElements": true,
 "layers": [
  {
   "subLayerIds": null,
   "maxScale": 0,
   "name": "Black_Mountain_Grove_20191015_v2",
   "defaultVisibility": true,
   "id": 0,
   "minScale": 0,
   "supportsDynamicLegends": true,
   "type": "Raster Layer",
   "parentLayerId": -1
  }
 ],
 "mapName": "Map",
 "archivingInfo": {
  "supportsHistoricMoment": false
 },
 "minScale": 147914381.8978889883,
 "spatialReference": {
  "falseM": -100000,
  "xyTolerance": 0.001,
  "mUnits": 10000,
  "zUnits": 10000,
  "latestWkid": 3857,
  "zTolerance": 0.001,
  "wkid": 102100,
  "xyUnits": 10000,
  "mTolerance": 0.001,
  "falseX": -20037700,
  "falseY": -30241100,
  "falseZ": -100000
 },
 "fullExtent": {
  "ymin": 4315777.6444293968379,
  "xmin": -13209489.573951588944,
  "ymax": 4317349.72161939647,
  "xmax": -13208344.246421588585,
  "spatialReference": {
   "falseM": -100000,
   "xyTolerance": 0.001,
   "mUnits": 10000,
   "zUnits": 10000,
   "latestWkid": 3857,
   "zTolerance": 0.001,
   "wkid": 102100,
   "xyUnits": 10000,
   "mTolerance": 0.001,
   "falseX": -20037700,
   "falseY": -30241100,
   "falseZ": -100000
  }
 },
 "supportedExtensions": "",
 "serviceItemId": "2691d10b1ad74f4f840d0b2ea7a70791",
 "capabilities": "TilesOnly,Tilemap",
 "supportsDynamicLayers": false,
 "maxScale": 141.062147,
 "singleFusedMapCache": true,
 "currentVersion": 10.8,
 "referenceScale": 0,
 "maxExportTilesCount": 100000,
 "supportsSpatialFilter": true,
 "supportedQueryFormats": "JSON, geoJSON, PBF",
 "initialExtent": {
  "ymin": 4315699.0405698977411,
  "xmin": -13210097.065241634846,
  "ymax": 4317428.3254788965,
  "xmax": -13207736.755131542683,
  "spatialReference": {
   "falseM": -100000,
   "xyTolerance": 0.001,
   "mUnits": 10000,
   "zUnits": 10000,
   "latestWkid": 3857,
   "zTolerance": 0.001,
   "wkid": 102100,
   "xyUnits": 10000,
   "mTolerance": 0.001,
   "falseX": -20037700,
   "falseY": -30241100,
   "falseZ": -100000
  }
 },
 "serviceDescription": "",
 "copyrightText": ""
}
